BEGIN:VCALENDAR
VERSION:2.0
PRODID:-//Lighthouse Vacations - ECPv6.15.20//NONSGML v1.0//EN
CALSCALE:GREGORIAN
METHOD:PUBLISH
X-WR-CALNAME:Lighthouse Vacations
X-ORIGINAL-URL:https://lighthousevacations.com
X-WR-CALDESC:Events for Lighthouse Vacations
REFRESH-INTERVAL;VALUE=DURATION:PT1H
X-Robots-Tag:noindex
X-PUBLISHED-TTL:PT1H
BEGIN:VTIMEZONE
TZID:America/New_York
BEGIN:DAYLIGHT
TZOFFSETFROM:-0500
TZOFFSETTO:-0400
TZNAME:EDT
DTSTART:20190310T070000
END:DAYLIGHT
BEGIN:STANDARD
TZOFFSETFROM:-0400
TZOFFSETTO:-0500
TZNAME:EST
DTSTART:20191103T060000
END:STANDARD
BEGIN:DAYLIGHT
TZOFFSETFROM:-0500
TZOFFSETTO:-0400
TZNAME:EDT
DTSTART:20200308T070000
END:DAYLIGHT
BEGIN:STANDARD
TZOFFSETFROM:-0400
TZOFFSETTO:-0500
TZNAME:EST
DTSTART:20201101T060000
END:STANDARD
BEGIN:DAYLIGHT
TZOFFSETFROM:-0500
TZOFFSETTO:-0400
TZNAME:EDT
DTSTART:20210314T070000
END:DAYLIGHT
BEGIN:STANDARD
TZOFFSETFROM:-0400
TZOFFSETTO:-0500
TZNAME:EST
DTSTART:20211107T060000
END:STANDARD
END:VTIMEZONE
BEGIN:VTIMEZONE
TZID:UTC
BEGIN:STANDARD
TZOFFSETFROM:+0000
TZOFFSETTO:+0000
TZNAME:UTC
DTSTART:20190101T000000
END:STANDARD
END:VTIMEZONE
BEGIN:VEVENT
DTSTART;TZID=America/New_York:20201009T190000
DTEND;TZID=America/New_York:20201010T203000
DTSTAMP:20260419T092944
CREATED:20201006T214557Z
LAST-MODIFIED:20201209T170639Z
UID:9087-1602270000-1602361800@lighthousevacations.com
SUMMARY:MACABRE TALES - GHOST TOUR
DESCRIPTION:See the Historic District come to life when you begin this after-dark tour by trolley\, highlighting death\, mourning\, and ghostly encounters on Jekyll Island. As you make your way through this millionaire’s paradise by moonlight\, you’ll join your guide on a lantern-lit walk inside Dubignon Cottage to learn about the people who lived and died on Jekyll Island and possibly haven’t left yet! These stories about the deathly happenings that once occurred here might leave you with more than just chills down your back! \nGuests will arrive and depart from Mosaic\, Jekyll Island Museum\, and can enjoy access to the museum gift shop prior to departing. \n*Please note that a portion of this tour includes walking. \nFor those needing special assistance\, or to book a private group tour of up to 15 people\, please call the museum: 912.635.4036 \n  \nAdults: $25+TaxChildren (Ages 4-12): $12
URL:https://lighthousevacations.com/event/macabre-tales-ghost-tour-3/
LOCATION:Mosaic Jekyll Island Museum\, 100 Stable Rd.\, Jekyll Island\, GA\, 31527\, Philippines
END:VEVENT
BEGIN:VEVENT
DTSTART;TZID=UTC:20201010T100000
DTEND;TZID=UTC:20201011T170000
DTSTAMP:20260419T092944
CREATED:20191106T231525Z
LAST-MODIFIED:20191106T231525Z
UID:8044-1602324000-1602435600@lighthousevacations.com
SUMMARY:Annual October Art & Craft Market
DESCRIPTION:Annual fall arts and craft show organized by Soglo Gallery\, and sponsored by the Pier Village Association. This event features regional fine art and handmade products from local exhibitors\, including pottery\, paintings\, photography\, garden art\, plants\, sculpture\, woodcraft\, jewelry\, and more! The two-day event takes place at the Pier Village’s Postell Park.
URL:https://lighthousevacations.com/event/annual-october-art-craft-market/
LOCATION:Postell Park\, 532 Beachview Drive\, St Simons Island\, GA\, 31522\, United States
END:VEVENT
BEGIN:VEVENT
DTSTART;TZID=America/New_York:20201010T150000
DTEND;TZID=America/New_York:20201010T180000
DTSTAMP:20260419T092944
CREATED:20201006T192841Z
LAST-MODIFIED:20201209T171423Z
UID:9044-1602342000-1602352800@lighthousevacations.com
SUMMARY:OPEN DOORS FALL ART EXHIBIT
DESCRIPTION:We look forward to seeing you at the gallery on Saturday\, October 10th from 3-6 pm\, when we will feature new works by our nine artists both indoor and outdoors! \nThank you in advance for wearing a mask. \nThis exhibit will run through Saturday\, November 14th at ArtTrends Gallery.
URL:https://lighthousevacations.com/event/open-doors-fall-art-exhibit/
LOCATION:ArtTrends Gallery\, 3305 Frederica Road\, St. Simons Island\, GA\, 31522\, United States
END:VEVENT
BEGIN:VEVENT
DTSTART;TZID=America/New_York:20201010T200000
DTEND;TZID=America/New_York:20201010T200000
DTSTAMP:20260419T092944
CREATED:20201006T201615Z
LAST-MODIFIED:20201209T171325Z
UID:9054-1602360000-1602360000@lighthousevacations.com
SUMMARY:BAKERSFIELD MIST
DESCRIPTION:BAKERSFIELD MIST \nBy Stephen Sachs \nMaude\, a fifty-something unemployed bartender living in a trailer park\, has bought a painting for a few bucks from a thrift store. Despite almost trashing it\, she’s now convinced it’s a lost masterpiece by Jackson Pollock worth millions. But when world-class art expert Lionel Percy flies over from New York and arrives at her trailer home in Bakersfield to authenticate the painting\, he has no idea what he is about to discover. Inspired by true events\, this hilarious and thought-provoking new comedy-drama asks vital questions about what makes art and people truly authentic. \n“Sachs’ short\, clever play is a battle of wits.” \n—NY Times. \n “A triumph! Hugely gratifying! An absorbing\, hilarious two-hander about the nature of art and the vagaries of human perception.” —Backstage. \nSaturdays October 3\, 10\, 17 at 8 pm \nSundays\, October 4\, 11\, 18 at 3 pm \n(doors open 30 minutes prior to curtain) \nDesserts/Coffees/Tea \nserved before the show. \nIf at home for video viewing\, you may \npick up a goody bag at the theatre (curbside) \nthe day before performance \nbetween 2 pm and 5 pm. \nIn person $25 per person \nVideo Link $20 per person \nRESERVATIONS: (912) 230-1042
URL:https://lighthousevacations.com/event/bakersfield-mist-2/
LOCATION:Brunswick Actors Theatre (Art Downtown)\, 1413 Newcastle Street\, Brunswick\, GA\, 31520\, United States
END:VEVENT
END:VCALENDAR