BEGIN:VCALENDAR
VERSION:2.0
PRODID:-//Lighthouse Vacations - ECPv6.15.20//NONSGML v1.0//EN
CALSCALE:GREGORIAN
METHOD:PUBLISH
X-WR-CALNAME:Lighthouse Vacations
X-ORIGINAL-URL:https://lighthousevacations.com
X-WR-CALDESC:Events for Lighthouse Vacations
REFRESH-INTERVAL;VALUE=DURATION:PT1H
X-Robots-Tag:noindex
X-PUBLISHED-TTL:PT1H
BEGIN:VTIMEZONE
TZID:America/New_York
BEGIN:DAYLIGHT
TZOFFSETFROM:-0500
TZOFFSETTO:-0400
TZNAME:EDT
DTSTART:20230312T070000
END:DAYLIGHT
BEGIN:STANDARD
TZOFFSETFROM:-0400
TZOFFSETTO:-0500
TZNAME:EST
DTSTART:20231105T060000
END:STANDARD
BEGIN:DAYLIGHT
TZOFFSETFROM:-0500
TZOFFSETTO:-0400
TZNAME:EDT
DTSTART:20240310T070000
END:DAYLIGHT
BEGIN:STANDARD
TZOFFSETFROM:-0400
TZOFFSETTO:-0500
TZNAME:EST
DTSTART:20241103T060000
END:STANDARD
BEGIN:DAYLIGHT
TZOFFSETFROM:-0500
TZOFFSETTO:-0400
TZNAME:EDT
DTSTART:20250309T070000
END:DAYLIGHT
BEGIN:STANDARD
TZOFFSETFROM:-0400
TZOFFSETTO:-0500
TZNAME:EST
DTSTART:20251102T060000
END:STANDARD
END:VTIMEZONE
BEGIN:VEVENT
DTSTART;TZID=America/New_York:20240921T100000
DTEND;TZID=America/New_York:20240922T160000
DTSTAMP:20260419T073415
CREATED:20240605T183934Z
LAST-MODIFIED:20240916T181756Z
UID:12061-1726912800-1727020800@lighthousevacations.com
SUMMARY:Crafts in the Village
DESCRIPTION:Come shop original art and handmade crafts from up to 70 artists! Jewelry\, ceramics\, woodcrafts\, decor\, art\, pottery\, photography\, hanging chairs\, skincare\, candles\, soaps\, glass art\, bird houses\, wearables\, specialty foods\, AND MORE! \nFor more information visit craftsinthevillage.com
URL:https://lighthousevacations.com/event/crafts-in-the-village-2/
LOCATION:Postell Park\, 532 Beachview Drive\, St Simons Island\, GA\, 31522\, United States
ORGANIZER;CN="Crafts in the Village":MAILTO:craftsinthevillage@gmail.com
END:VEVENT
END:VCALENDAR